Workbook

Sheet T1
A1: Pengamat : RABBIRL Y. M. | B1: Menit ke- | C1: Tinggi Muka Air (cm) | E1: Pengamat : RABBIRL Y. M. | F1: Menit ke- | G1: Tinggi Muka Air (cm) | I1: Pengamat : RABBIRL Y. M. | J1: Menit ke- | K1: Tinggi Muka Air (cm)
A2: Waktu : 21 Nov 2019 | B2: Sebelum Pompa | C2: 39 | E2: Waktu : 21 Nov 2019 | F2: Sebelum Pompa | G2: 31.5 | I2: Waktu : 21 Nov 2019 | J2: Sebelum Pompa | K2: 33.5
A3: Lokasi : Areal Konservasi Blok P/O | B3: Setelah Pompa | C3: 65 | E3: Lokasi : Areal Konservasi Blok P/O | F3: Setelah Pompa | G3: 62 | I3: Lokasi : Areal Konservasi Blok P/O | J3: Setelah Pompa | K3: 50.5
B4: 0 | C4: 65 | F4: 0 | G4: 62 | J4: 0 | K4: 50.5
A5: Plot : 1 | B5: 1 | C5: 65 | E5: Plot : 1 | F5: 1 | G5: 60 | I5: Plot : 1 | J5: 1 | K5: 50
A6: Ulangan : 1 | B6: 2 | C6: 63.5 | E6: Ulangan : 2 | F6: 2 | G6: 59.5 | I6: Ulangan : 3 | J6: 2 | K6: 44
A7: Koordinat : UTM 49 M 0437841 9825212 | B7: 3 | C7: 62 | E7: Koordinat : UTM 49 M 0437835 9825209 | F7: 3 | G7: 59 | I7: Koordinat : UTM 49 M 0437835 9825208 | J7: 3 | K7: 40
A8: Tinggi Pipa : 24 | B8: 4 | C8: 60.5 | E8: Tinggi Pipa : 25 | F8: 4 | G8: 59 | I8: Tinggi Pipa : 25,5 | J8: 4 | K8: 38
B9: 5 | C9: 59.5 | F9: 5 | G9: 58.5 | J9: 5 | K9: 36
B10: 6 | C10: 58 | F10: 6 | G10: 58 | J10: 6 | K10: 35
B11: 7 | C11: 56.5 | F11: 7 | G11: 57.5 | J11: 7 | K11: 35
B12: 8 | C12: 56 | F12: 8 | G12: 57 | J12: 8 | K12: 34
B13: 9 | C13: 55 | F13: 9 | G13: 57 | J13: 9 | K13: 34
B14: 10 | C14: 54 | F14: 10 | G14: 56.5 | J14: 10 | K14: 34
B15: 11 | C15: 53.5 | F15: 11 | G15: 56 | J15: 11 | K15: 34
B16: 12 | C16: 52.5 | F16: 12 | G16: 55.5 | J16: 12 | K16: 34
B17: 13 | C17: 52 | F17: 13 | G17: 55 | J17: 13 | K17: 33.5
B18: 14 | C18: 51 | F18: 14 | G18: 54.5 | J18: 14
B19: 15 | C19: 50 | F19: 15 | G19: 54 | J19: 15
B20: 16 | C20: 50 | F20: 16 | G20: 54 | J20: 16
B21: 17 | C21: 49.5 | F21: 17 | G21: 53.5 | J21: 17
B22: 18 | C22: 48.5 | F22: 18 | G22: 52.5 | J22: 18
B23: 19 | C23: 48 | F23: 19 | G23: 52.5 | J23: 19
B24: 20 | C24: 47 | F24: 20 | G24: 52 | J24: 20
B25: 21 | C25: 47 | F25: 21 | G25: 52 | J25: 21
B26: 22 | C26: 46.5 | F26: 22 | G26: 52 | J26: 22
B27: 23 | C27: 46.5 | F27: 23 | G27: 51.5 | J27: 23
B28: 24 | C28: 45.5 | F28: 24 | G28: 50.5 | J28: 24
B29: 25 | C29: 45.5 | F29: 25 | G29: 50 | J29: 25
... B39: 45 | C39: 42 | F39: 45 | G39: 45 | J39: 45
A41: D1 (Sebelum Pompa) | B41: 39 | E41: D1 | F41: 31.5 | I41: D1 | J41: 33.5
A42: D2 | B42: =150-B41 -> 111 | E42: D2 | F42: =150-F41 -> 118.5 | I42: D2 | J42: =150-J41 -> 116.5
A43: h0 | B43: 65 | E43: h0 | F43: 60 | I43: h0 | J43: 50
A44: ht | B44: 42 | E44: ht | F44: 45 | I44: ht | J44: 33.5
A45: t (menit) | B45: 45 | E45: t (menit) | F45: 45 | I45: t (menit) | J45: 13
A48: D1 | B48: MAT reference
A49: D2 | B49: panjang pipa-D1 | C49: MAT sebelum dipompa
A50: h0 | B50: MAT setelah dipompa
A51: ht | B51: MAT pd akhir pengukuran

Sheet T2
A1: Pengamat : RABBIRL Y. M. | B1: Menit ke- | C1: Tinggi Muka Air (cm) | E1: Pengamat : RABBIRL Y. M. | F1: Menit ke- | G1: Tinggi Muka Air (cm) | I1: Pengamat : RABBIRL Y. M. | J1: Menit ke- | K1: Tinggi Muka Air (cm)
A2: Waktu : 29 Nov 2019 | B2: Sebelum Pompa | C2: 26.5 | E2: Waktu : 29 Nov 2019 | F2: Sebelum Pompa | G2: 21.4 | I2: Waktu : 29 Nov 2019 | J2: Sebelum Pompa | K2: 26.4
A3: Lokasi : Areal Konservasi Blok P48/2 | B3: Setelah Pompa | C3: 43.5 | E3: Lokasi : Areal Konservasi Blok P48/2 | F3: Setelah Pompa | G3: 37.5 | I3: Lokasi : Areal Konservasi Blok P48/2 | J3: Setelah Pompa | K3: 37
B4: 0 | C4: 43.5 | F4: 0 | G4: 37.5 | J4: 0 | K4: 37
A5: Plot : 9 | B5: 1 | C5: 43.3 | E5: Plot : 9 | F5: 1 | G5: 37 | I5: Plot : 9 | J5: 1 | K5: 34.5
A6: Ulangan : 1 | B6: 2 | C6: 42.5 | E6: Ulangan : 2 | F6: 2 | G6: 35.8 | I6: Ulangan : 2 | J6: 2 | K6: 32.4
A7: Koordinat : UTM 49 M 0437826 9825223 | B7: 3 | C7: 41.6 | E7: Koordinat : UTM 49 M 0437823 9825226 | F7: 3 | G7: 34.9 | I7: Koordinat : UTM 49 M 0437820 9825219 | J7: 3 | K7: 31.3
A8: Tinggi Pipa : 28 cm | B8: 4 | C8: 40.5 | E8: Tinggi Pipa : 28,5 cm | F8: 4 | G8: 33.8 | I8: Tinggi Pipa : 26 cm | J8: 4 | K8: 29.9
A9: Keterangan : Terbakar, Tergenang | B9: 5 | C9: 39.4 | E9: Keterangan : Terbakar, Tergenang | F9: 5 | G9: 33 | I9: Keterangan : Terbakar, Tergenang | J9: 5 | K9: 29.2
B10: 6 | C10: 38.5 | F10: 6 | G10: 32 | J10: 6 | K10: 28.2
B11: 7 | C11: 38.1 | F11: 7 | G11: 31.2 | J11: 7 | K11: 28
B12: 8 | C12: 37.3 | F12: 8 | G12: 30.3 | J12: 8 | K12: 27.7
B13: 9 | C13: 36.4 | F13: 9 | G13: 29.8 | J13: 9 | K13: 27.2
B14: 10 | C14: 35.8 | F14: 10 | G14: 29 | J14: 10 | K14: 27.1
B15: 11 | C15: 35.1 | F15: 11 | G15: 28.3 | J15: 11 | K15: 27
B16: 12 | C16: 34.2 | F16: 12 | G16: 27.7 | J16: 12 | K16: 26.7
B17: 13 | C17: 34 | F17: 13 | G17: 27.1 | J17: 13 | K17: 26.5
B18: 14 | C18: 33.3 | F18: 14 | G18: 26.6 | J18: 14 | K18: 26.4
B19: 15 | C19: 33 | F19: 15 | G19: 26.2 | J19: 15
B20: 16 | C20: 32.2 | F20: 16 | G20: 25.7 | J20: 16
B21: 17 | C21: 31.8 | F21: 17 | G21: 24.8 | J21: 17
B22: 18 | C22: 31.5 | F22: 18 | G22: 24.2 | J22: 18
B23: 19 | C23: 31.1 | F23: 19 | G23: 23.6 | J23: 19
B24: 20 | C24: 30.6 | F24: 20 | G24: 23 | J24: 20
B25: 21 | C25: 30.3 | F25: 21 | G25: 22.8 | J25: 21
B26: 22 | C26: 30 | F26: 22 | G26: 22.4 | J26: 22
B27: 23 | C27: 29.7 | F27: 23 | G27: 22.2 | J27: 23
B28: 24 | C28: 29.4 | F28: 24 | G28: 21.7 | J28: 24
B29: 25 | C29: 29 | F29: 25 | G29: 21.4 | J29: 25
B30: 26 | C30: 28.6 | F30: 26 | J30: 26
B31: 27 | C31: 28.2 | F31: 27 | J31: 27
B32: 28 | C32: 27.9 | F32: 28 | J32: 28
B33: 29 | C33: 27.5 | F33: 29 | J33: 29
B34: 30 | C34: 27.2 | F34: 30 | J34: 30
B35: 33 | C35: 26.5 | F35: 33 | J35: 33
B36: 36 | F36: 36 | J36: 36
B37: 39 | F37: 39 | J37: 39
B38: 42 | F38: 42 | J38: 42
B39: 45 | F39: 45 | J39: 45
A41: D1 | B41: =C2 -> 26.5 | F41: =G2 -> 21.4 | J41: =K2 -> 26.4
...

Sheet T3
A1: Pengamat : RABBIRL Y. M. | B1: Menit ke- | C1: Tinggi Muka Air (cm) | E1: Pengamat : RABBIRL Y. M. | F1: Menit ke- | G1: Tinggi Muka Air (cm) | I1: Pengamat : RABBIRL Y. M. | J1: Menit ke- | K1: Tinggi Muka Air (cm)
A2: Waktu : 22 Nov 2019 | B2: Sebelum Pompa | C2: 46 | E2: Waktu : 22 Nov 2019 | F2: Sebelum Pompa | G2: 37 | I2: Waktu : 23 Nov 2019 | J2: Sebelum Pompa | K2: 49
A3: Lokasi : Areal Konservasi Blok P58 | B3: Setelah Pompa | C3: 72 | E3: Lokasi : Areal Konservasi Blok P58 | F3: Setelah Pompa | G3: 61 | I3: Lokasi : Areal Konservasi Blok P58 | J3: Setelah Pompa | K3: 71
B4: 0 | C4: 72 | F4: 0 | G4: 61 | J4: 0 | K4: 71
A5: Plot : 2 | B5: 1 | C5: 70 | E5: Plot : 2 | F5: 1 | G5: 60 | I5: Plot : 2 | J5: 1 | K5: 70
A6: Ulangan : 1 | B6: 2 | C6: 70 | E6: Ulangan : 2 | F6: 2 | G6: 59.5 | I6: Ulangan : 3 | J6: 2 | K6: 69.5
A7: Koordinat : UTM 49 M 0440726 9825126 | B7: 3 | C7: 70 | E7: Koordinat : UTM 49 M 0440732 9825125 | F7: 3 | G7: 58 | I7: Koordinat : UTM 49 M 0440725 9825123 | J7: 3 | K7: 69
A8: Tinggi Pipa : 31 cm | B8: 4 | C8: 69.7 | E8: Tinggi Pipa : 28,5 | F8: 4 | G8: 57 | I8: Tinggi Pipa : 30,5 | J8: 4 | K8: 68.2
A9: Keterangan : Gambut Dangkal | B9: 5 | C9: 68.6 | E9: Keterangan : Gambut Dangkal | F9: 5 | G9: 56.8 | I9: Keterangan : Gambut Dangkal | J9: 5 | K9: 68
B10: 6 | C10: 68.4 | F10: 6 | G10: 56 | J10: 6 | K10: 67.9
B11: 7 | C11: 68 | F11: 7 | G11: 55 | J11: 7 | K11: 67
B12: 8 | C12: 68 | F12: 8 | G12: 54.5 | J12: 8 | K12: 66.6
B13: 9 | C13: 67.7 | F13: 9 | G13: 53.8 | J13: 9 | K13: 66
B14: 10 | C14: 67 | F14: 10 | G14: 53 | J14: 10 | K14: 65.5
B15: 11 | C15: 66.7 | F15: 11 | G15: 52.5 | J15: 11 | K15: 65.4
B16: 12 | C16: 66.5 | F16: 12 | G16: 52 | J16: 12 | K16: 65
B17: 13 | C17: 66.4 | F17: 13 | G17: 51.5 | J17: 13 | K17: 64.5
B18: 14 | C18: 65.5 | F18: 14 | G18: 51 | J18: 14 | K18: 64
B19: 15 | C19: 65 | F19: 15 | G19: 50.2 | J19: 15 | K19: 63.2
B20: 16 | C20: 65.5 | F20: 16 | G20: 50 | J20: 16 | K20: 63
B21: 17 | C21: 65 | F21: 17 | G21: 49.5 | J21: 17 | K21: 62.7
... B39: 45 | C39: 58.8 | F39: 45 | G39: 41.5 | J39: 45 | K39: 53
A41: D1 | B41: =C2 -> 46 | F41: =G2 -> 37 | J41: =K2 -> 49
A42: D2 | B42: =150-B41 -> 104 | F42: =150-F41 -> 113 | J42: =150-J41 -> 101
A43: h0 | B43: =C4 -> 72 | F43: =G4 -> 61 | J43: =K4 -> 71
A44: ht | B44: =C39 -> 58.8 | F44: =G39 -> 41.5 | J44: =K39 -> 53
A45: t (menit) | B45: =B39 -> 45 | F45: =F39 -> 45 | J45: =J39 -> 45
A48: D1 | B48: MAT reference
A49: D2 | B49: panjang pipa-D1 | C49: MAT sebelum dipompa
A50: h0 | B50: MAT setelah dipompa
A51: ht | B51: MAT pd akhir pengukuran

Sheet TT1
A1: Pengamat : RABBIRL Y. M. | B1: Menit ke- | C1: Tinggi Muka Air (cm) | E1: Pengamat : RABBIRL Y. M. | F1: Menit ke- | G1: Tinggi Muka Air (cm) | I1: Pengamat : RABBIRL Y. M. | J1: Menit ke- | K1: Tinggi Muka Air (cm)
A2: Waktu : 26 Nov 2019 | B2: Sebelum Pompa | C2: 53 | E2: Waktu : 26 Nov 2019 | F2: Sebelum Pompa | G2: 45.5 | I2: Waktu : 26 Nov 2019 | J2: Sebelum Pompa | K2: 47
A3: Lokasi : Areal Konservasi Blok R43 | B3: Setelah Pompa | C3: 60 | E3: Lokasi : Areal Konservasi Blok R43 | F3: Setelah Pompa | G3: 57.5 | I3: Lokasi : Areal Konservasi Blok R43 | J3: Setelah Pompa | K3: 59
B4: 1 | C4: 59.5 | F4: 1 | G4: 57.3 | J4: 1 | K4: 59.7
A5: Plot : 5 | B5: 2 | C5: 59.5 | E5: Plot : 5 | F5: 2 | G5: 57.1 | I5: Plot : 5 | J5: 2 | K5: 59.5
A6: Ulangan : 1 | B6: 3 | C6: 58 | E6: Ulangan : 2 | F6: 3 | G6: 57 | I6: Ulangan : 3 | J6: 3 | K6: 59.2
A7: Koordinat : UTM 49 M 0435987 9823101 | B7: 4 | C7: 58 | E7: Koordinat : UTM 49 M 0435993 9823100 | F7: 4 | G7: 56.5 | I7: Koordinat : UTM 49 M 0435988 9823108 | J7: 4 | K7: 59
A8: Tinggi Pipa : 24 cm | B8: 5 | C8: 58 | E8: Tinggi Pipa : 25 cm | F8: 5 | G8: 56.5 | I8: Tinggi Pipa : 24 cm | J8: 5 | K8: 58.5
A9: Keterangan : Tidak Terbakar | B9: 6 | C9: 58 | E9: Keterangan : Tidak Terbakar | F9: 6 | G9: 56.4 | I9: Keterangan : Tidak Terbakar | J9: 6 | K9: 58.3
B10: 7 | C10: 58 | F10: 7 | G10: 56.2 | J10: 7 | K10: 58.1
B11: 8 | C11: 57.8 | F11: 8 | G11: 56 | J11: 8 | K11: 57.9
B12: 9 | C12: 57.5 | F12: 9 | G12: 56 | H12: 55 | J12: 9 | K12: 57.6
B13: 10 | C13: 57.4 | F13: 10 | G13: 55.9 | J13: 10 | K13: 57.5
B14: 11 | C14: 57.2 | F14: 11 | G14: 55.7 | J14: 11 | K14: 57.3
B15: 12 | C15: 56.8 | F15: 12 | G15: 55.7 | J15: 12 | K15: 57.1
B16: 13 | C16: 56.4 | F16: 13 | G16: 55.6 | J16: 13 | K16: 56.8
B17: 14 | C17: 56 | F17: 14 | G17: 55.6 | J17: 14 | K17: 56.7
B18: 15 | C18: 55.5 | F18: 15 | G18: 55.4 | J18: 15 | K18: 56.3
B19: 16 | C19: 55.2 | F19: 16 | G19: 55.3 | J19: 16 | K19: 56.2
B20: 17 | C20: 55.1 | F20: 17 | G20: 55.2 | J20: 17 | K20: 55.9
B21: 18 | C21: 55 | F21: 18 | G21: 55.1 | J21: 18 | K21: 55.4
B22: 19 | C22: 54.9 | F22: 19 | G22: 54.8 | J22: 19 | K22: 55.3
B23: 20 | C23: 54.9 | F23: 20 | G23: 54.7 | J23: 20 | K23: 55
B24: 21 | C24: 54.7 | F24: 21 | G24: 54.6 | J24: 21 | K24: 54.8
... B38: 45 | C38: 51.2 | F38: 45 | G38: 51.2 | J38: 45 | K38: 51
A40: D1 | B40: =C2 -> 53 | F40: =G2 -> 45.5 | J40: =K2 -> 47
A41: D2 | B41: =150-B40 -> 97 | F41: =150-F40 -> 104.5 | J41: =150-J40 -> 103
A42: h0 | B42: =C3 -> 60 | F42: =G3 -> 57.5 | J42: =K3 -> 59
A43: ht | B43: =C38 -> 51.2 | F43: =G38 -> 51.2 | J43: =K38 -> 51
A44: t (menit) | B44: =B38 -> 45 | F44: =F38 -> 45 | J44: =J38 -> 45

Sheet TT2
A1: Pengamat : RABBIRL Y. M. | B1: Menit ke- | C1: Tinggi Muka Air (cm) | E1: Pengamat : RABBIRL Y. M. | F1: Menit ke- | G1: Tinggi Muka Air (cm) | I1: Pengamat : RABBIRL Y. M. | J1: Menit ke- | K1: Tinggi Muka Air (cm)
A2: Waktu : 27 Nov 2019 | B2: Sebelum Pompa | C2: 58.5 | E2: Waktu : 27 Nov 2019 | F2: Sebelum Pompa | G2: 53 | I2: Waktu : 27 Nov 2019 | J2: Sebelum Pompa | K2: 49
A3: Lokasi : Areal Konservasi Blok R43/2 | B3: Setelah Pompa | C3: 63 | E3: Lokasi : Areal Konservasi Blok R43/2 | F3: Setelah Pompa | G3: 60 | I3: Lokasi : Areal Konservasi Blok R43/2 | J3: Setelah Pompa | K3: 60
B4: 1 | C4: 63 | D4: 62.5 | F4: 1 | G4: 59.4 | J4: 1 | K4: 59.6
A5: Plot : 6 | B5: 2 | C5: 63 | E5: Plot : 6 | F5: 2 | G5: 59.1 | I5: Plot : 6 | J5: 2 | K5: 58.6
A6: Ulangan : 1 | B6: 3 | C6: 62.6 | E6: Ulangan : 2 | F6: 3 | G6: 58.5 | I6: Ulangan : 3 | J6: 3 | K6: 58.6
A7: Koordinat : UTM 49 M 0435984 9822971 | B7: 4 | C7: 62.2 | E7: Koordinat : UTM 49 M 0435985 9822973 | F7: 4 | G7: 58.5 | I7: Koordinat : UTM 49 M 0435983 9822970 | J7: 4 | K7: 58.3
A8: Tinggi Pipa : 28 cm | B8: 5 | C8: 62 | E8: Tinggi Pipa : 28 cm | F8: 5 | G8: 58.5 | I8: Tinggi Pipa : 21 cm | J8: 5 | K8: 58.1
A9: Keterangan : Tidak Terbakar | B9: 6 | C9: 61.5 | E9: Keterangan : Tidak Terbakar | F9: 6 | G9: 58.5 | I9: Keterangan : Tidak Terbakar | J9: 6 | K9: 58
B10: 7 | C10: 61.3 | F10: 7 | G10: 58.4 | J10: 7 | K10: 57.6
B11: 8 | C11: 61 | F11: 8 | G11: 58.3 | J11: 8 | K11: 57
B12: 9 | C12: 60.8 | F12: 9 | G12: 58.1 | J12: 9 | K12: 57
B13: 10 | C13: 60.7 | F13: 10 | G13: 58 | J13: 10 | K13: 56.9
B14: 11 | C14: 60.5 | F14: 11 | G14: 57.9 | J14: 11 | K14: 56.6
B15: 12 | C15: 60.5 | F15: 12 | G15: 57.7 | J15: 12 | K15: 56.5
B16: 13 | C16: 60.4 | F16: 13 | G16: 57.7 | J16: 13 | K16: 56.3
B17: 14 | C17: 60.3 | F17: 14 | G17: 57.6 | J17: 14 | K17: 56.1
B18: 15 | C18: 60.2 | F18: 15 | G18: 57.5 | J18: 15 | K18: 56
B19: 16 | C19: 59.5 | F19: 16 | G19: 57.5 | J19: 16 | K19: 55.9
B20: 17 | C20: 59 | F20: 17 | G20: 57.5 | J20: 17 | K20: 55.8
B21: 18 | C21: 59 | F21: 18 | G21: 57.5 | J21: 18 | K21: 55.7
... B38: 45 | C38: 58.4 | F38: 45 | G38: 56 | J38: 45 | K38: 52.7
A40: D1 | B40: =C2 -> 58.5 | F40: =G2 -> 53 | J40: =K2 -> 49
A41: D2 | B41: =150-B40 -> 91.5 | F41: =150-F40 -> 97 | J41: =150-J40 -> 101
A42: h0 | B42: =C3 -> 63 | F42: =G3 -> 60 | J42: =K3 -> 60
A43: ht | B43: =C38 -> 58.4 | F43: =G38 -> 56 | J43: =K38 -> 52.7
A44: t (menit) | B44: =B38 -> 45 | F44: =F38 -> 45 | J44: =J38 -> 45

Sheet TT3
A1: Pengamat : RABBIRL Y. M. | B1: Menit ke- | C1: Tinggi Muka Air (cm) | E1: Pengamat : RABBIRL Y. M. | F1: Menit ke- | G1: Tinggi Muka Air (cm) | I1: Pengamat : RABBIRL Y. M. | J1: Menit ke- | K1: Tinggi Muka Air (cm)
A2: Waktu : 29 Nov 2019 | B2: Sebelum Pompa | C2: 26.5 | E2: Waktu : 29 Nov 2019 | F2: Sebelum Pompa | G2: 21.4 | I2: Waktu : 29 Nov 2019 | J2: Sebelum Pompa | K2: 26.4
A3: Lokasi : Areal Konservasi Blok P48/2 | B3: Setelah Pompa | C3: 43.5 | E3: Lokasi : Areal Konservasi Blok P48/2 | F3: Setelah Pompa | G3: 37.5 | I3: Lokasi : Areal Konservasi Blok P48/2 | J3: Setelah Pompa | K3: 37
B4: 0 | C4: 43.5 | F4: 0 | G4: 37.5 | J4: 0 | K4: 37
A5: Plot : 9 | B5: 1 | C5: 43.3 | E5: Plot : 9 | F5: 1 | G5: 37 | I5: Plot : 9 | J5: 1 | K5: 34.5
A6: Ulangan : 1 | B6: 2 | C6: 42.5 | E6: Ulangan : 2 | F6: 2 | G6: 35.8 | I6: Ulangan : 2 | J6: 2 | K6: 32.4
A7: Koordinat : UTM 49 M 0437826 9825223 | B7: 3 | C7: 41.6 | E7: Koordinat : UTM 49 M 0437823 9825226 | F7: 3 | G7: 34.9 | I7: Koordinat : UTM 49 M 0437820 9825219 | J7: 3 | K7: 31.3
A8: Tinggi Pipa : 28 cm | B8: 4 | C8: 40.5 | E8: Tinggi Pipa : 28,5 cm | F8: 4 | G8: 33.8 | I8: Tinggi Pipa : 26 cm | J8: 4 | K8: 29.9
A9: Keterangan : Terbakar, Tergenang | B9: 5 | C9: 39.4 | E9: Keterangan : Terbakar, Tergenang | F9: 5 | G9: 33 | I9: Keterangan : Terbakar, Tergenang | J9: 5 | K9: 29.2
B10: 6 | C10: 38.5 | F10: 6 | G10: 32 | J10: 6 | K10: 28.2
B11: 7 | C11: 38.1 | F11: 7 | G11: 31.2 | J11: 7 | K11: 28
B12: 8 | C12: 37.3 | F12: 8 | G12: 30.3 | J12: 8 | K12: 27.7
B13: 9 | C13: 36.4 | F13: 9 | G13: 29.8 | J13: 9 | K13: 27.2
B14: 10 | C14: 35.8 | F14: 10 | G14: 29 | J14: 10 | K14: 27.1
B15: 11 | C15: 35.1 | F15: 11 | G15: 28.3 | J15: 11 | K15: 27
B16: 12 | C16: 34.2 | F16: 12 | G16: 27.7 | J16: 12 | K16: 26.7
B17: 13 | C17: 34 | F17: 13 | G17: 27.1 | J17: 13 | K17: 26.5
B18: 14 | C18: 33.3 | F18: 14 | G18: 26.6 | J18: 14 | K18: 26.4
B19: 15 | C19: 33 | F19: 15 | G19: 26.2 | J19: 15
B20: 16 | C20: 32.2 | F20: 16 | G20: 25.7 | J20: 16
B21: 17 | C21: 31.8 | F21: 17 | G21: 24.8 | J21: 17
B22: 18 | C22: 31.5 | F22: 18 | G22: 24.2 | J22: 18
B23: 19 | C23: 31.1 | F23: 19 | G23: 23.6 | J23: 19
B24: 20 | C24: 30.6 | F24: 20 | G24: 23 | J24: 20
B25: 21 | C25: 30.3 | F25: 21 | G25: 22.8 | J25: 21
B26: 22 | C26: 30 | F26: 22 | G26: 22.4 | J26: 22
B27: 23 | C27: 29.7 | F27: 23 | G27: 22.2 | J27: 23
B28: 24 | C28: 29.4 | F28: 24 | G28: 21.7 | J28: 24
B29: 25 | C29: 29 | F29: 25 | G29: 21.4 | J29: 25
B30: 26 | C30: 28.6 | F30: 26 | J30: 26
B31: 27 | C31: 28.2 | F31: 27 | J31: 27
B32: 28 | C32: 27.9 | F32: 28 | J32: 28
B33: 29 | C33: 27.5 | F33: 29 | J33: 29
B34: 30 | C34: 27.2 | F34: 30 | J34: 30
B35: 33 | C35: 26.5 | F35: 33 | J35: 33
B36: 36 | F36: 36 | J36: 36
B37: 39 | F37: 39 | J37: 39
B38: 42 | F38: 42 | J38: 42
B39: 45 | F39: 45 | J39: 45
A41: D1 | B41: =C2 -> 26.5 | F41: =G2 -> 21.4 | J41: =K2 -> 26.4
...

Sheet KH
A1: Konduktivitas hidrolik
A3: No | B3: Kode | C3: Jari-Jari | D3: Kedalaman Air Tanah dari Ref (Pralon) | E3: panjang pipa | F3: Tebal Air Masuk ke dalam Pralon | G3: Kedalaman Rataan Air Tanah di bawah muka air tanah | H3: Koefisien | I3: Kedalam Air Setelah menit ke-t | J3: Kedalam Air Setelah dipompa | K3: Jarak Ho ke Ht | L3: Waktu yang diperlukan untuk H0 ke Ht | M3: Waktu yang diperlukan untuk H0 ke Ht | N3: Konduktivitas Hidrolik
C4: ( r ) | D4: (D1) | E4: cm | F4: (D2) | G4: (h') | H4: ( C ) | I4: (Ht) | J4: (H0) | L4: (t) | M4: (t) | N4: m/day | P4: m/day
C5: (cm) | D5: (cm) | F5: (cm) | G5: (cm) | I5: (cm) | J5: (cm) | K5: (cm) | M5: s
A6: 1 | B6: T1-1 | C6: 2.5 | D6: 39 | E6: 150 | F6: =E6-D6 -> 111 | G6: =0.5*(J6+I6)-D6 -> 14.5 | H6: =((4000*(C6/G6))/((20+F6/C6)*(2-G6/F6))) -> 5.7286331 | I6: 42 | J6: 65 | K6: =J6-I6 -> 23 | L6: 45 | M6: =L6*60 -> 2700 | N6: =H6*K6/M6 -> 0.048799467 | O6: D>1/2 D2 | P6: =N6*60*60*24/100 -> 42.16274
A7: 2 | B7: T1-2 | C7: 2.5 | D7: 31.5 | E7: 150 | F7: =E7-D7 -> 118.5 | G7: =0.5*(J7+I7)-D7 -> 21 | H7: =((4000*(C7/G7))/((20+F7/C7)*(2-G7/F7))) -> 3.8760146 | I7: 45 | J7: 60 | K7: =J7-I7 -> 15 | L7: 45 | M7: =L7*60 -> 2700 | N7: =H7*K7/M7 -> 0.021533415 | O7: D>1/2 D2
A8: 3 | B8: T1-3 | C8: 2.5 | D8: 33.5 | E8: 150 | F8: =E8-D8 -> 116.5 | G8: =0.5*(J8+I8)-D8 -> 8.25 | H8: =((4000*(C8/G8))/((20+F8/C8)*(2-G8/F8))) -> 9.4340473 | I8: 33.5 | J8: 50 | K8: =J8-I8 -> 16.5 | L8: 13 | M8: =L8*60 -> 780 | N8: =H8*K8/M8 -> 0.19956638 | O8: D>1/2 D2
A9: 4 | B9: T2-1 | C9: 2.5 | D9: ='T2'!B41 -> 26.5 | E9: 150 | F9: =E9-D9 -> 123.5 | G9: =0.5*(J9+I9)-D9 -> 8.5 | H9: =((4000*(C9/G9))/((20+F9/C9)*(2-G9/F9))) -> 8.778093 | I9: ='T2'!B44 -> 26.5 | J9: ='T2'!B43 -> 43.5 | K9: =J9-I9 -> 17 | L9: ='T2'!B45 -> 33 | M9: =L9*60 -> 1980 | N9: =H9*K9/M9 -> 0.075367465 | O9: D>1/2 D2
A10: 5 | B10: T2-2 | C10: 2.5 | D10: ='T2'!F41 -> 21.4 | E10: 150 | F10: =E10-D10 -> 128.6 | G10: =0.5*(J10+I10)-D10 -> 8.05 | H10: =((4000*(C10/G10))/((20+F10/C10)*(2-G10/F10))) -> 8.9751714 | I10: ='T2'!F44 -> 21.4 | J10: ='T2'!F43 -> 37.5 | K10: =J10-I10 -> 16.1 | L10: ='T2'!F45 -> 25 | M10: =L10*60 -> 1500 | N10: =H10*K10/M10 -> 0.096333506 | O10: D>1/2 D2
A11: 6 | B11: T2-3 | C11: 2.5 | D11: ='T2'!J41 -> 26.4 | E11: 150 | F11: =E11-D11 -> 123.6 | G11: =0.5*(J11+I11)-D11 -> 5.3 | H11: =((4000*(C11/G11))/((20+F11/C11)*(2-G11/F11))) -> 13.883438 | I11: ='T2'!J44 -> 26.4 | J11: ='T2'!J43 -> 37 | K11: =J11-I11 -> 10.6 | L11: ='T2'!J45 -> 14 | M11: =L11*60 -> 840 | N11: =H11*K11/M11 -> 0.17519576 | O11: D>1/2 D2
A12: 7 | B12: T3-1 | C12: 2.5 | D12: ='T3'!B41 -> 46 | E12: 150 | F12: =E12-D12 -> 104 | G12: =0.5*(J12+I12)-D12 -> 19.4 | H12: =((3600*(C12/G12))/((10+F12/C12)*(2-G12/F12))) -> 4.9577284 | I12: ='T3'!B44 -> 58.8 | J12: ='T3'!B43 -> 72 | K12: =J12-I12 -> 13.2 | L12: ='T3'!B45 -> 45 | M12: =L12*60 -> 2700 | N12: =H12*K12/M12 -> 0.024237783
A13: 8 | B13: T3-2 | C13: 2.5 | D13: ='T3'!F41 -> 37 | E13: 150 | F13: =E13-D13 -> 113 | G13: =0.5*(J13+I13)-D13 -> 14.25 | H13: =((3600*(C13/G13))/((10+F13/C13)*(2-G13/F13))) -> 6.1058143 | I13: ='T3'!F44 -> 41.5 | J13: ='T3'!F43 -> 61 | K13: =J13-I13 -> 19.5 | L13: ='T3'!F45 -> 45 | M13: =L13*60 -> 2700 | N13: =H13*K13/M13 -> 0.044097548
A14: 9 | B14: T3-3 | C14: 2.5 | D14: ='T3'!J41 -> 49 | E14: 150 | F14: =E14-D14 -> 101 | G14: =0.5*(J14+I14)-D14 -> 13 | H14: =((3600*(C14/G14))/((10+F14/C14)*(2-G14/F14))) -> 7.3405431 | I14: ='T3'!J44 -> 53 | J14: ='T3'!J43 -> 71 | K14: =J14-I14 -> 18 | L14: ='T3'!J45 -> 45 | M14: =L14*60 -> 2700 | N14: =H14*K14/M14 -> 0.048936954
A15: 10 | B15: TT1-1 | C15: 2.5 | D15: ='TT1'!B40 -> 53 | E15: 150 | F15: =E15-D15 -> 97 | G15: =0.5*(J15+I15)-D15 -> 2.6 | H15: =((4000*(C15/G15))/((20+F15/C15)*(2-G15/F15))) -> 33.149664 | I15: ='TT1'!B43 -> 51.2 | J15: ='TT1'!B42 -> 60 | K15: =J15-I15 -> 8.8 | L15: ='TT1'!B44 -> 45 | M15: =L15*60 -> 2700 | N15: =H15*K15/M15 -> 0.10804335 | O15: D>1/2 D2
A16: 11 | B16: TT1-2 | C16: 2.5 | D16: ='TT1'!F40 -> 45.5 | E16: 150 | F16: =E16-D16 -> 104.5 | G16: =0.5*(J16+I16)-D16 -> 8.85 | H16: =((4000*(C16/G16))/((20+F16/C16)*(2-G16/F16))) -> 9.5461653 | I16: ='TT1'!F43 -> 51.2 | J16: ='TT1'!F42 -> 57.5 | K16: =J16-I16 -> 6.3 | L16: ='TT1'!F44 -> 45 | M16: =L16*60 -> 2700 | N16: =H16*K16/M16 -> 0.022274386 | O16: D>1/2 D2
A17: 12 | B17: TT1-3 | C17: 2.5 | D17: ='TT1'!J40 -> 47 | E17: 150 | F17: =E17-D17 -> 103 | G17: =0.5*(J17+I17)-D17 -> 8 | H17: =((4000*(C17/G17))/((20+F17/C17)*(2-G17/F17))) -> 10.625041 | I17: ='TT1'!J43 -> 51 | J17: ='TT1'!J42 -> 59 | K17: =J17-I17 -> 8 | L17: ='TT1'!J44 -> 45 | M17: =L17*60 -> 2700 | N17: =H17*K17/M17 -> 0.031481604 | O17: D>1/2 D2
A18: 13 | B18: TT2-1 | C18: 2.5 | D18: ='TT2'!B40 -> 58.5 | E18: 150 | F18: =E18-D18 -> 91.5 | G18: =0.5*(J18+I18)-D18 -> 2.2 | H18: =((4000*(C18/G18))/((20+F18/C18)*(2-G18/F18))) -> 40.642794 | I18: ='TT2'!B43 -> 58.4 | J18: ='TT2'!B42 -> 63 | K18: =J18-I18 -> 4.6 | L18: ='TT2'!B44 -> 45 | M18: =L18*60 -> 2700 | N18: =H18*K18/M18 -> 0.069243279 | O18: D>1/2 D2
A19: 14 | B19: TT2-2 | C19: 2.5 | D19: ='TT2'!F40 -> 53 | E19: 150 | F19: =E19-D19 -> 97 | G19: =0.5*(J19+I19)-D19 -> 5 | H19: =((4000*(C19/G19))/((20+F19/C19)*(2-G19/F19))) -> 17.456718 | I19: ='TT2'!F43 -> 56 | J19: ='TT2'!F42 -> 60 | K19: =J19-I19 -> 4 | L19: ='TT2'!F44 -> 45 | M19: =L19*60 -> 2700 | N19: =H19*K19/M19 -> 0.025861805 | O19: D>1/2 D2
A20: 15 | B20: TT2-3 | C20: 2.5 | D20: ='TT2'!J40 -> 49 | E20: 150 | F20: =E20-D20 -> 101 | G20: =0.5*(J20+I20)-D20 -> 7.35 | H20: =((4000*(C20/G20))/((20+F20/C20)*(2-G20/F20))) -> 11.688067 | I20: ='TT2'!J43 -> 52.7 | J20: ='TT2'!J42 -> 60 | K20: =J20-I20 -> 7.3 | L20: ='TT2'!J44 -> 45 | M20: =L20*60 -> 2700 | N20: =H20*K20/M20 -> 0.03160107 | O20: D>1/2 D2
A21: 16 | B21: TT3-1 | C21: 2.5 | D21: 26.5 | E21: 150 | F21: 123.5 | G21: 8.5 | H21: 8.778093 | I21: 26.5 | J21: 43.5 | K21: 17 | L21: 33 | M21: 1980 | N21: 0.075367465 | O21: D>1/2 D2
A22: 17 | B22: TT3-2 | C22: 2.5 | D22: 21.4 | E22: 150 | F22: 128.6 | G22: 8.05 | H22: 8.9751714 | I22: 21.4 | J22: 37.5 | K22: 16.1 | L22: 25 | M22: 1500 | N22: 0.096333506 | O22: D>1/2 D2
A23: 18 | B23: TT3-3 | C23: 2.5 | D23: 26.4 | E23: 150 | F23: 123.6 | G23: 5.3 | H23: 13.883438 | I23: 26.4 | J23: 37 | K23: 10.6 | L23: 14 | M23: 840 | N23: 0.17519576 | O23: D>1/2 D2
L28: D1 | M28: 33.5
L29: D2 | M29: =150-M28 -> 116.5
L30: h0 | M30: 50
L31: ht | M31: 33.5
L32: t (menit) | M32: 13

Sheet Resume KH
A1: Terbakar | D1: Tak Terbakar | T1: =C2 -> Konduktivitas Hidrolik (m/hari) | W1: =C2 -> Konduktivitas Hidrolik (m/hari) | Z1: =C2 -> Konduktivitas Hidrolik (m/hari)
A2: No | B2: Kode | C2: Konduktivitas Hidrolik (m/hari) | D2: No | E2: Kode | F2: Konduktivitas Hidrolik (m/hari) | G2: m/hari | H2: m/jam | I2: m/menit | J2: m/s | K2: m/s | O2: t-Test: Two-Sample Assuming Equal Variances | S2: Mean | T2: =AVERAGE(C3:C11) -> 0.081563143 | V2: Min | W2: =W9-$W16 -> #REF! | Y2: W-stat | Z2: =[2]!SHAPIRO(C3:C11) -> 0.83184117
A3: 1 | B3: T1-1 | C3: =KH!N6 -> 0.048799467 | D3: 1 | E3: =KH!B15 -> TT1-1 | F3: =KH!N15 -> 0.10804335 | G3: =AVERAGE(C3:C10,F3:F11) -> 0.077678445 | H3: =G3/24 -> 0.0032366019 | I3: =H3/60 -> 5.3943364e-05 | J3: =I3/60 -> 8.9905607e-07 | K3: =J3*10^7 -> 8.9905607 | S3: Standard Error | T3: =_xlfn.STDEV.S(C3:C11)/SQRT(COUNT(C3:C11)) -> 0.021531548 | V3: Q1-Min | W3: =MAX(W10-W9,0) -> #REF! | Y3: p-value | Z3: =[2]!SWTEST(C3:C11) -> 0.046828038
A4: 2 | B4: T1-2 | C4: =KH!N7 -> 0.021533415 | D4: 2 | E4: =KH!B16 -> TT1-2 | F4: =KH!N16 -> 0.022274386 | P4: Variable 1 | Q4: Variable 2 | S4: Median | T4: =MEDIAN(C3:C11) -> 0.048936954 | V4: Med-Q1 | W4: =MAX(W11-W10,0) -> 0.004839406 | Y4: alpha | Z4: 0.05
A5: 3 | B5: T1-3 | C5: =KH!N8 -> 0.19956638 | D5: 3 | E5: =KH!B17 -> TT1-3 | F5: =KH!N17 -> 0.031481604 | O5: Mean | P5: 0.030568377 | Q5: 0.041244104 | S5: Mode | T5: =MODE(C3:C11) -> #N/A | V5: Q3-Med | W5: =MAX(W12-W11,0) -> 0.047396553 | Y5: normal | Z5: =IF(Z3<Z4,"no","yes") -> no
A6: 4 | B6: T2-1 | C6: =KH!N9 -> 0.075367465 | D6: 4 | E6: =KH!B18 -> TT2-1 | F6: =KH!N18 -> 0.069243279 | O6: Variance | P6: 0.00052354685 | Q6: 0.0043105917 | S6: Standard Deviation | T6: =_xlfn.STDEV.S(C3:C11) -> 0.064594645 | V6: Max-Q3 | W6: =MAX(W13-W12,0) -> #REF!
A7: 5 | B7: T2-2 | C7: =KH!N10 -> 0.096333506 | D7: 5 | E7: =KH!B19 -> TT2-2 | F7: =KH!N19 -> 0.025861805 | O7: Observations | P7: 15 | Q7: 15 | S7: Sample Variance | T7: =_xlfn.VAR.S(C3:C11) -> 0.0041724682 | V7: Mean | W7: =W14-$W16 -> #REF! | Y7: d'Agostino-Pearson
A8: 6 | B8: T2-3 | C8: =KH!N11 -> 0.17519576 | D8: 6 | E8: =KH!B20 -> TT2-3 | F8: =KH!N20 -> 0.03160107 | O8: Pooled Variance | P8: 0.0024170693 | S8: Kurtosis | T8: =KURT(C3:C11) -> 0.026588684
A9: 7 | B9: T3-1 | C9: =KH!N12 -> 0.024237783 | D9: 7 | E9: =KH!B21 -> TT3-1 | F9: =KH!N21 -> 0.075367465 | O9: Hypothesized Mean Difference | P9: 0 | S9: Skewness | T9: =SKEW(C3:C11) -> 1.1567284 | V9: Min | W9: {=MIN(IF(ISBLANK(C3:C11),"",IF(C3:C11>=W10-#REF!*(W12-W10),C3:C11,"")))} -> #REF! | Y9: DA-stat | Z9: =[2]!DAGOSTINO(C3:C11) -> 2.6652626
A10: 8 | B10: T3-2 | C10: =KH!N13 -> 0.044097548 | D10: 8 | E10: =KH!B22 -> TT3-2 | F10: =KH!N22 -> 0.096333506 | O10: df | P10: 28 | S10: Range | T10: =T11-T12 -> 0.17803297 | V10: Q1 | W10: =_xlfn.QUARTILE.INC(C3:C11,1) -> 0.044097548 | Y10: p-value | Z10: =[2]!DPTEST(C3:C11) -> 0.26378225
A11: 9 | B11: T3-3 | C11: =KH!N14 -> 0.048936954 | D11: 9 | E11: =KH!B23 -> TT3-3 | F11: =KH!N23 -> 0.17519576 | O11: t Stat | P11: -0.5946803 | S11: Maximum | T11: =MAX(C3:C11) -> 0.19956638 | V11: Median | W11: =MEDIAN(C3:C11) -> 0.048936954 | Y11: alpha | Z11: 0.05
A12: Rerata | C12: =AVERAGE(C3:C11) -> 0.081563143 | D12: Rerata | F12: =AVERAGE(F3:F11) -> 0.070600247 | S12: Minimum | T12: =MIN(C3:C11) -> 0.021533415 | V12: Q3 | W12: =_xlfn.QUARTILE.INC(C3:C11,3) -> 0.096333506 | Y12: normal | Z12: =IF(Z10<Z11,"no","yes") -> yes
A13: Standar deviasi | C13: =_xlfn.STDEV.S(C3:C11) -> 0.064594645 | D13: Standar deviasi | F13: =_xlfn.STDEV.S(F3:F11) -> 0.050518681 | S13: Sum | T13: =SUM(C3:C11) -> 0.73406829 | V13: Max | W13: {=MAX(IF(ISBLANK(C3:C11),"",IF(C3:C11<=W12+#REF!*(W12-W10),C3:C11,"")))} -> #REF!
S14: Count | T14: =COUNT(C3:C11) -> 9 | V14: Mean | W14: =AVERAGE(C3:C11) -> 0.081563143
S15: Geometric Mean | T15: =GEOMEAN(C3:C11) -> 0.062208451
S16: Harmonic Mean | T16: =HARMEAN(C3:C11) -> 0.048473482 | V16: Grand Min | W16: =IF(MIN(W9)>=0,0,MIN(W9)) -> #REF!
S17: AAD | T17: =AVEDEV(C3:C11) -> 0.050312495
S18: MAD | T18: =[2]!MAD(C3:C11) -> 0.026430512 | V18: Outliers | W18: =C5 -> 0.19956638
S19: IQR | T19: =[2]!IQR(C3:C11,FALSE) -> 0.052235959 | W19: =C8 -> 0.17519576

Sheet Resume All
A1: Terbakar | I1: Tak Terbakar | S1: Variabel | T1: Faktor | U1: N | V1: Mean | W1: SD | X1: Shapiro-Wilk Test (Normalitas) | Y1: Uji T | AA1: T Test: Two Independent Samples
A2: No | B2: Kode | C2: Konduktivitas Hidrolik (m/hari) | D2: BI (g/cm3) | E2: Kadar Air (%Vol) | F2: ='Fisik & C'!M1 -> Carbon (%) | G2: Subsiden (cm/tahun) | H2: Loss Carbon (t C ha-1) | I2: No | J2: Kode | K2: Konduktivitas Hidrolik (m/hari) | L2: BI (g/cm3) | M2: Kadar Air (%Vol) | N2: ='Fisik & C'!M1 -> Carbon (%) | O2: Subsiden (cm/tahun) | P2: Loss Carbon (t C ha-1) | X2: P-Value | Y2: P-Value | AA2: =S3 -> Konduktivitas Hidrolik (m/hari)
A3: 1 | B3: T1 | C3: =AVERAGE('Resume KH'!C3:C5) -> 0.089966422 | D3: ='Fisik & C'!J4 -> 0.11639015 | E3: ='Fisik & C'!L4 -> 66.931061 | F3: ='Fisik & C'!M4 -> 51.65 | G3: ='Peat Dept, Subsiden'!I2 -> 5.6666667 | H3: ='Loss C'!E3 -> 34.065458 | I3: 1 | J3: TT1 | K3: =AVERAGE('Resume KH'!F3:F5) -> 0.053933113 | L3: ='Fisik & C'!J16 -> 0.1106891 | M3: ='Fisik & C'!L16 -> 87.259615 | N3: ='Fisik & C'!M16 -> 49.745 | O3: ='Peat Dept, Subsiden'!I11 -> 2.3333333 | P3: ='Loss C'!E6 -> 12.847869 | S3: Konduktivitas Hidrolik (m/hari) | T3: Terbakar | U3: 3 | V3: =AVERAGE(C3:C5) -> 0.081563143 | W3: =STDEV(C3:C5) -> 0.038956527 | X3: =K11 -> 0.64111056 | Y3: =AE12 -> 0.74918059 | AA3: SUMMARY | AD3: Hyp Mean Diff | AE3: 0
A4: 2 | B4: T2 | C4: =AVERAGE('Resume KH'!C6:C8) -> 0.11563224 | D4: ='Fisik & C'!J8 -> 0.12283856 | E4: ='Fisik & C'!L8 -> 77.671003 | F4: ='Fisik & C'!M8 -> 51.115 | G4: ='Peat Dept, Subsiden'!I5 -> 6.3333333 | H4: ='Loss C'!E4 -> 39.766322 | I4: 2 | J4: TT2 | K4: =AVERAGE('Resume KH'!F6:F8) -> 0.042235384 | L4: ='Fisik & C'!J20 -> 0.080378788 | M4: ='Fisik & C'!L20 -> 81.045671 | N4: ='Fisik & C'!M20 -> 54.875 | O4: ='Peat Dept, Subsiden'!I14 -> 1.6666667 | P4: ='Loss C'!E7 -> 7.35131 | T4: Tak Terbakar | U4: 3 | V4: =AVERAGE(K3:K5) -> 0.070600247 | W4: =STDEV(K3:K5) -> 0.039435008 | X4: =K34 -> 0.28431178 | AA4: Groups | AB4: Count | AC4: Mean | AD4: Variance | AE4: Cohen d
A5: 3 | B5: T3 | C5: =AVERAGE('Resume KH'!C9:C11) -> 0.039090762 | D5: ='Fisik & C'!J12 -> 0.13325556 | E5: ='Fisik & C'!L12 -> 68.432037 | F5: ='Fisik & C'!M12 -> 52.66 | G5: ='Peat Dept, Subsiden'!I8 -> 4.6666667 | H5: ='Loss C'!E5 -> 32.747109 | I5: 3 | J5: TT3 | K5: =AVERAGE('Resume KH'!F9:F11) -> 0.11563224 | L5: ='Fisik & C'!J24 -> 0.093457285 | M5: ='Fisik & C'!L24 -> 87.361338 | N5: ='Fisik & C'!M24 -> 53.645 | O5: ='Peat Dept, Subsiden'!I17 -> 1.5 | P5: ='Loss C'!E8 -> 7.520274 | S5: BI (g/cm3) | T5: Terbakar | U5: 3 | V5: =AVERAGE(D3:D5) -> 0.12416142 | W5: =STDEV(D3:D5) -> 0.0085101668 | X5: =L11 -> 0.74211194 | Y5: =AE31 -> 0.043467729 | AA5: =C2 -> Konduktivitas Hidrolik (m/hari) | AB5: =COUNT(C3:C5) -> 3 | AC5: =AVERAGE(C3:C5) -> 0.081563143 | AD5: =_xlfn.VAR.S(C3:C5) -> 0.001517611
T6: Tak Terbakar | U6: 3 | V6: =AVERAGE(L3:L5) -> 0.094841725 | W6: =STDEV(L3:L5) -> 0.01520251 | X6: =L34 -> 0.84921952 | AA6: =K2 -> Konduktivitas Hidrolik (m/hari) | AB6: =COUNT(K3:K5) -> 3 | AC6: =AVERAGE(K3:K5) -> 0.070600247 | AD6: =_xlfn.VAR.S(K3:K5) -> 0.0015551198
B7: Descriptive Statistics | J7: Shapiro-Wilk Test | S7: Kadar Air (%Vol) | T7: Terbakar | U7: 3 | V7: =AVERAGE(E3:E5) -> 71.011367 | W7: =STDEV(E3:E5) -> 5.816038 | X7: =M11 -> 0.24713206 | Y7: =AE55 -> 0.030866828 | AA7: Pooled | AD7: =((AB5-1)*AD5+(AB6-1)*AD6)/(AB5+AB6-2) -> 0.0015363654 | AE7: =ABS(AC5-AC6-AE3)/SQRT(AD7) -> 0.27969069
A8: Terbakar | J8: Terbakar | T8: Tak Terbakar | U8: 3 | V8: =AVERAGE(M3:M5) -> 85.222208 | W8: =STDEV(M3:M5) -> 3.6173449 | X8: =M34 -> 0.026853439
C9: =C2 -> Konduktivitas Hidrolik (m/hari) | D9: =D2 -> BI (g/cm3) | E9: =E2 -> Kadar Air (%Vol) | F9: =F2 -> Carbon (%) | G9: =G2 -> Subsiden (cm/tahun) | H9: =H2 -> Loss Carbon (t C ha-1) | K9: =C2 -> Konduktivitas Hidrolik (m/hari) | L9: =D2 -> BI (g/cm3) | M9: =E2 -> Kadar Air (%Vol) | N9: =F2 -> Carbon (%) | O9: =G2 -> Subsiden (cm/tahun) | P9: =H2 -> Loss Carbon (t C ha-1) | S9: Carbon (%) | T9: Terbakar | U9: 3 | V9: =AVERAGE(F3:F5) -> 51.808333 | W9: =STDEV(F3:F5) -> 0.78457526 | X9: =N11 -> 0.66448874 | Y9: =AE69 -> 0.58842086 | AA9: T TEST: Equal Variances | AE9: Alpha | AF9: 0.05
B10: Mean | C10: =AVERAGE(C3:C5) -> 0.081563143 | D10: =AVERAGE(D3:D5) -> 0.12416142 | E10: =AVERAGE(E3:E5) -> 71.011367 | F10: =AVERAGE(F3:F5) -> 51.808333 | G10: =AVERAGE(G3:G5) -> 5.5555556 | H10: =AVERAGE(H3:H5) -> 35.526296 | J10: W-stat | K10: =[2]!SHAPIRO(C3:C5) -> 0.96510217 | L10: =[2]!SHAPIRO(D3:D5) -> 0.98187762 | M10: =[2]!SHAPIRO(E3:E5) -> 0.8524903 | N10: =[2]!SHAPIRO(F3:F5) -> 0.96945524 | O10: =[2]!SHAPIRO(G3:G5) -> 0.98684211 | P10: =[2]!SHAPIRO(H3:H5) -> 0.88500136 | T10: Tak Terbakar | U10: 3 | V10: =AVERAGE(N3:N5) -> 52.755 | W10: =STDEV(N3:N5) -> 2.6783017 | X10: =N34 -> 0.44249522 | AB10: std err | AC10: t-stat | AD10: df | AE10: p-value | AF10: t-crit | AG10: lower | AH10: upper | AI10: sig | AJ10: effect r
B11: Standard Error | C11: =_xlfn.STDEV.S(C3:C5)/SQRT(COUNT(C3:C5)) -> 0.022491561 | D11: =_xlfn.STDEV.S(D3:D5)/SQRT(COUNT(D3:D5)) -> 0.0049133471 | E11: =_xlfn.STDEV.S(E3:E5)/SQRT(COUNT(E3:E5)) -> 3.3578911 | F11: =_xlfn.STDEV.S(F3:F5)/SQRT(COUNT(F3:F5)) -> 0.45297474 | G11: =_xlfn.STDEV.S(G3:G5)/SQRT(COUNT(G3:G5)) -> 0.4843221 | H11: =_xlfn.STDEV.S(H3:H5)/SQRT(COUNT(H3:H5)) -> 2.1539015 | J11: p-value | K11: =[2]!SWTEST(C3:C5) -> 0.64111056 | L11: =[2]!SWTEST(D3:D5) -> 0.74211194 | M11: =[2]!SWTEST(E3:E5) -> 0.24713206 | N11: =[2]!SWTEST(F3:F5) -> 0.66448874 | O11: =[2]!SWTEST(G3:G5) -> 0.78043983 | P11: =[2]!SWTEST(H3:H5) -> 0.33923464 | S11: Subsiden (cm/tahun) | T11: Terbakar | U11: 3 | V11: =AVERAGE(G3:G5) -> 5.5555556 | W11: =STDEV(G3:G5) -> 0.83887049 | X11: =O11 -> 0.78043983 | Y11: =AE88 -> 0.0024394182 | AA11: One Tail | AB11: =SQRT(AD7*(1/AB5+1/AB6)) -> 0.032003806 | AC11: =(ABS(AC5-AC6-AE3))/AB11 -> 0.34254974 | AD11: =AB5+AB6-2 -> 4 | AE11: =_xlfn.T.DIST.RT(AC11,AD11) -> 0.3745903 | AF11: =_xlfn.T.INV.2T(AF9*2,AD11) -> 2.1318468 | AI11: =IF(AE11<AF9,"yes","no") -> no | AJ11: =SQRT(AC11^2/(AC11^2+AD11)) -> 0.16881664
B12: Median | C12: =MEDIAN(C3:C5) -> 0.089966422 | D12: =MEDIAN(D3:D5) -> 0.12283856 | E12: =MEDIAN(E3:E5) -> 68.432037 | F12: =MEDIAN(F3:F5) -> 51.65 | G12: =MEDIAN(G3:G5) -> 5.6666667 | H12: =MEDIAN(H3:H5) -> 34.065458 | J12: alpha | K12: 0.05 | L12: 0.05 | M12: 0.05 | N12: 0.05 | O12: 0.05 | P12: 0.05 | T12: Tak Terbakar | U12: 3 | V12: =AVERAGE(O3:O5) -> 1.8333333 | W12: =STDEV(O3:O5) -> 0.44095855 | X12: =O34 -> 0.36311224 | AA12: Two Tail | AB12: =AB11 -> 0.032003806 | AC12: =AC11 -> 0.34254974 | AD12: =AD11 -> 4 | AE12: =_xlfn.T.DIST.2T(AC12,AD12) -> 0.74918059 | AF12: =_xlfn.T.INV.2T(AF9,AD12) -> 2.7764451 | AG12: =(AC5-AC6)-AF12*AB12 -> -0.077893915 | AH12: =(AC5-AC6)+AF12*AB12 -> 0.099819706 | AI12: =IF(AE12<AF9,"yes","no") -> no | AJ12: =AJ11 -> 0.16881664
B13: Mode | C13: =MODE(C3:C5) -> #N/A | D13: =MODE(D3:D5) -> #N/A | E13: =MODE(E3:E5) -> #N/A | F13: =MODE(F3:F5) -> #N/A | G13: =MODE(G3:G5) -> #N/A | H13: =MODE(H3:H5) -> #N/A | J13: normal | K13: =IF(K11<K12,"no","yes") -> yes | L13: =IF(L11<L12,"no","yes") -> yes | M13: =IF(M11<M12,"no","yes") -> yes | N13: =IF(N11<N12,"no","yes") -> yes | O13: =IF(O11<O12,"no","yes") -> yes | P13: =IF(P11<P12,"no","yes") -> yes | S13: Emisi Carbon Subsiden (ton/ha) | T13: Terbakar | U13: 3 | V13: =AVERAGE(H3:H5) -> 35.526296 | W13: =STDEV(H3:H5) -> 3.7306668 | X13: =P11 -> 0.33923464 | Y13: =AE107 -> 0.00072723238
B14: Standard Deviation | C14: =_xlfn.STDEV.S(C3:C5) -> 0.038956527 | D14: =_xlfn.STDEV.S(D3:D5) -> 0.0085101668 | E14: =_xlfn.STDEV.S(E3:E5) -> 5.816038 | F14: =_xlfn.STDEV.S(F3:F5) -> 0.78457526 | G14: =_xlfn.STDEV.S(G3:G5) -> 0.83887049 | H14: =_xlfn.STDEV.S(H3:H5) -> 3.7306668 | T14: Tak Terbakar | U14: 3 | V14: =AVERAGE(P3:P5) -> 9.2398175 | W14: =STDEV(P3:P5) -> 3.1258058 | X14: =P34 -> 0.051623727 | AA14: T TEST: Unequal Variances | AE14: Alpha | AF14: =AF9 -> 0.05
B15: Sample Variance | C15: =_xlfn.VAR.S(C3:C5) -> 0.001517611 | D15: =_xlfn.VAR.S(D3:D5) -> 7.242294e-05 | E15: =_xlfn.VAR.S(E3:E5) -> 33.826298 | F15: =_xlfn.VAR.S(F3:F5) -> 0.61555833 | G15: =_xlfn.VAR.S(G3:G5) -> 0.7037037 | H15: =_xlfn.VAR.S(H3:H5) -> 13.917875 | J15: d'Agostino-Pearson | AB15: std err | AC15: t-stat | AD15: df | AE15: p-value | AF15: t-crit | AG15: lower | AH15: upper | AI15: sig | AJ15: effect r
B16: Kurtosis | C16: =KURT(C3:C5) -> #DIV/0! | D16: =KURT(D3:D5) -> #DIV/0! | E16: =KURT(E3:E5) -> #DIV/0! | F16: =KURT(F3:F5) -> #DIV/0! | G16: =KURT(G3:G5) -> #DIV/0! | H16: =KURT(H3:H5) -> #DIV/0! | AA16: One Tail | AB16: =SQRT(AD5/AB5+AD6/AB6) -> 0.032003806 | AC16: =(ABS(AC5-AC6-AE3))/AB16 -> 0.34254974 | AD16: =(AD5/AB5+AD6/AB6)^2/((AD5/AB5)^2/(AB5-1)+(AD6/AB6)^2/(AB6-1)) -> 3.999404 | AE16: =[2]!T_DIST_RT(AC16,AD16) -> 0.37459152 | AF16: =[2]!T_INV(1-AF14,AD16) -> 2.1319381 | AI16: =IF(AE16<AF14,"yes","no") -> no | AJ16: =SQRT(AC16^2/(AC16^2+AD16)) -> 0.16882886
B17: Skewness | C17: =SKEW(C3:C5) -> -0.92552447 | D17: =SKEW(D3:D5) -> 0.68260071 | E17: =SKEW(E3:E5) -> 1.6031751 | F17: =SKEW(F3:F5) -> 0.87114967 | G17: =SKEW(G3:G5) -> -0.58558273 | H17: =SKEW(H3:H5) -> 1.4919066 | J17: DA-stat | K17: =[2]!DAGOSTINO(C3:C5) -> #N/A | L17: =[2]!DAGOSTINO(D3:D5) -> #N/A | M17: =[2]!DAGOSTINO(E3:E5) -> #N/A | N17: =[2]!DAGOSTINO(F3:F5) -> #N/A | O17: =[2]!DAGOSTINO(G3:G5) -> #N/A | P17: =[2]!DAGOSTINO(H3:H5) -> #N/A | AA17: Two Tail | AB17: =AB16 -> 0.032003806 | AC17: =AC16 -> 0.34254974 | AD17: =AD16 -> 3.999404 | AE17: =[2]!T_DIST_2T(AC17,AD17) -> 0.74918303 | AF17: =[2]!T_INV_2T(AF14,AD17) -> 2.7766083 | AG17: =(AC5-AC6)-AF17*AB17 -> -0.077899137 | AH17: =(AC5-AC6)+AF17*AB17 -> 0.099824928 | AI17: =IF(AE17<AF14,"yes","no") -> no | AJ17: =AJ16 -> 0.16882886
B18: Range | C18: =C19-C20 -> 0.076541483 | D18: =D19-D20 -> 0.016865404 | E18: =E19-E20 -> 10.739943 | F18: =F19-F20 -> 1.545 | G18: =G19-G20 -> 1.6666667 | H18: =H19-H20 -> 7.0192131 | J18: p-value | K18: =[2]!DPTEST(C3:C5) -> #N/A | L18: =[2]!DPTEST(D3:D5) -> #N/A | M18: =[2]!DPTEST(E3:E5) -> #N/A | N18: =[2]!DPTEST(F3:F5) -> #N/A | O18: =[2]!DPTEST(G3:G5) -> #N/A | P18: =[2]!DPTEST(H3:H5) -> #N/A
B19: Maximum | C19: =MAX(C3:C5) -> 0.11563224 | D19: =MAX(D3:D5) -> 0.13325556 | E19: =MAX(E3:E5) -> 77.671003 | F19: =MAX(F3:F5) -> 52.66 | G19: =MAX(G3:G5) -> 6.3333333 | H19: =MAX(H3:H5) -> 39.766322 | J19: alpha | K19: 0.05 | L19: 0.05 | M19: 0.05 | N19: 0.05 | O19: 0.05 | P19: 0.05
B20: Minimum | C20: =MIN(C3:C5) -> 0.039090762 | D20: =MIN(D3:D5) -> 0.11639015 | E20: =MIN(E3:E5) -> 66.931061 | F20: =MIN(F3:F5) -> 51.115 | G20: =MIN(G3:G5) -> 4.6666667 | H20: =MIN(H3:H5) -> 32.747109 | J20: normal | K20: =IF(K18<K19,"no","yes") -> #N/A | L20: =IF(L18<L19,"no","yes") -> #N/A | M20: =IF(M18<M19,"no","yes") -> #N/A | N20: =IF(N18<N19,"no","yes") -> #N/A | O20: =IF(O18<O19,"no","yes") -> #N/A | P20: =IF(P18<P19,"no","yes") -> #N/A | AA20: T Test: Two Independent Samples
B21: Sum | C21: =SUM(C3:C5) -> 0.24468943 | D21: =SUM(D3:D5) -> 0.37248427 | E21: =SUM(E3:E5) -> 213.0341 | F21: =SUM(F3:F5) -> 155.425 | G21: =SUM(G3:G5) -> 16.666667 | H21: =SUM(H3:H5) -> 106.57889
B22: Count | C22: =COUNT(C3:C5) -> 3 | D22: =COUNT(D3:D5) -> 3 | E22: =COUNT(E3:E5) -> 3 | F22: =COUNT(F3:F5) -> 3 | G22: =COUNT(G3:G5) -> 3 | H22: =COUNT(H3:H5) -> 3 | AA22: SUMMARY | AD22: Hyp Mean Diff | AE22: 0
B23: Geometric Mean | C23: =GEOMEAN(C3:C5) -> 0.074087427 | D23: =GEOMEAN(D3:D5) -> 0.12396871 | E23: =GEOMEAN(E3:E5) -> 70.856881 | F23: =GEOMEAN(F3:F5) -> 51.804384 | G23: =GEOMEAN(G3:G5) -> 5.5121657 | H23: =GEOMEAN(H3:H5) -> 35.399805 | AA23: Groups | AB23: Count | AC23: Mean | AD23: Variance | AE23: Cohen d
B24: Harmonic Mean | C24: =HARMEAN(C3:C5) -> 0.066159653 | D24: =HARMEAN(D3:D5) -> 0.12377802 | E24: =HARMEAN(E3:E5) -> 70.707019 | F24: =HARMEAN(F3:F5) -> 51.800447 | G24: =HARMEAN(G3:G5) -> 5.4679565 | H24: =HARMEAN(H3:H5) -> 35.277847 | AA24: =D2 -> BI (g/cm3) | AB24: =COUNT(D3:D5) -> 3 | AC24: =AVERAGE(D3:D5) -> 0.12416142 | AD24: =_xlfn.VAR.S(D3:D5) -> 7.242294e-05
B25: AAD | C25: =AVEDEV(C3:C5) -> 0.028314921 | D25: =AVEDEV(D3:D5) -> 0.0060627559 | E25: =AVEDEV(E3:E5) -> 4.4397575 | F25: =AVEDEV(F3:F5) -> 0.56777778 | G25: =AVEDEV(G3:G5) -> 0.59259259 | H25: =AVEDEV(H3:H5) -> 2.8266838 | AA25: =L2 -> BI (g/cm3) | AB25: =COUNT(L3:L5) -> 3 | AC25: =AVERAGE(L3:L5) -> 0.094841725 | AD25: =_xlfn.VAR.S(L3:L5) -> 0.0002311163
B26: MAD | C26: =[2]!MAD(C3:C5) -> 0.025665823 | D26: =[2]!MAD(D3:D5) -> 0.0064484065 | E26: =[2]!MAD(E3:E5) -> 1.5009764 | F26: =[2]!MAD(F3:F5) -> 0.535 | G26: =[2]!MAD(G3:G5) -> 0.66666667 | H26: =[2]!MAD(H3:H5) -> 1.3183489 | AA26: Pooled | AD26: =((AB24-1)*AD24+(AB25-1)*AD25)/(AB24+AB25-2) -> 0.00015176962 | AE26: =ABS(AC24-AC25-AE22)/SQRT(AD26) -> 2.3799457
B27: IQR | C27: =[2]!IQR(C3:C5,FALSE) -> 0.038270742 | D27: =[2]!IQR(D3:D5,FALSE) -> 0.008432702 | E27: =[2]!IQR(E3:E5,FALSE) -> 5.3699713 | F27: =[2]!IQR(F3:F5,FALSE) -> 0.7725 | G27: =[2]!IQR(G3:G5,FALSE) -> 0.83333333 | H27: =[2]!IQR(H3:H5,FALSE) -> 3.5096065
AA28: T TEST: Equal Variances | AE28: Alpha | AF28: 0.05
AB29: std err | AC29: t-stat | AD29: df | AE29: p-value | AF29: t-crit | AG29: lower | AH29: upper | AI29: sig | AJ29: effect r
B30: Descriptive Statistics | J30: Shapiro-Wilk Test | AA30: One Tail | AB30: =SQRT(AD26*(1/AB24+1/AB25)) -> 0.010058814 | AC30: =(ABS(AC24-AC25-AE22))/AB30 -> 2.9148263 | AD30: =AB24+AB25-2 -> 4 | AE30: =_xlfn.T.DIST.RT(AC30,AD30) -> 0.021733865 | AF30: =_xlfn.T.INV.2T(AF28*2,AD30) -> 2.1318468 | AI30: =IF(AE30<AF28,"yes","no") -> yes | AJ30: =SQRT(AC30^2/(AC30^2+AD30)) -> 0.82456231
B31: Tak Terbakar | J31: Tak Terbakar | AA31: Two Tail | AB31: =AB30 -> 0.010058814 | AC31: =AC30 -> 2.9148263 | AD31: =AD30 -> 4 | AE31: =_xlfn.T.DIST.2T(AC31,AD31) -> 0.043467729 | AF31: =_xlfn.T.INV.2T(AF28,AD31) -> 2.7764451 | AG31: =(AC24-AC25)-AF31*AB31 -> 0.0013919507 | AH31: =(AC24-AC25)+AF31*AB31 -> 0.057247443 | AI31: =IF(AE31<AF28,"yes","no") -> yes | AJ31: =AJ30 -> 0.82456231
C32: =K2 -> Konduktivitas Hidrolik (m/hari) | D32: =L2 -> BI (g/cm3) | E32: =M2 -> Kadar Air (%Vol) | F32: =N2 -> Carbon (%) | G32: =O2 -> Subsiden (cm/tahun) | H32: =P2 -> Loss Carbon (t C ha-1) | K32: =K2 -> Konduktivitas Hidrolik (m/hari) | L32: =L2 -> BI (g/cm3) | M32: =M2 -> Kadar Air (%Vol) | N32: =N2 -> Carbon (%) | O32: =O2 -> Subsiden (cm/tahun) | P32: =P2 -> Loss Carbon (t C ha-1)
B33: Mean | C33: =AVERAGE(K3:K5) -> 0.070600247 | D33: =AVERAGE(L3:L5) -> 0.094841725 | E33: =AVERAGE(M3:M5) -> 85.222208 | F33: =AVERAGE(N3:N5) -> 52.755 | G33: =AVERAGE(O3:O5) -> 1.8333333 | H33: =AVERAGE(P3:P5) -> 9.2398175 | J33: W-stat | K33: =[2]!SHAPIRO(K3:K5) -> 0.86602638 | L33: =[2]!SHAPIRO(L3:L5) -> 0.99378016 | M33: =[2]!SHAPIRO(M3:M5) -> 0.76207663 | N33: =[2]!SHAPIRO(N3:N5) -> 0.91718247 | O33: =[2]!SHAPIRO(O3:O5) -> 0.89285714 | P33: =[2]!SHAPIRO(P3:P5) -> 0.77303253 | AA33: T TEST: Unequal Variances | AE33: Alpha | AF33: =AF28 -> 0.05
B34: Standard Error | C34: =_xlfn.STDEV.S(K3:K5)/SQRT(COUNT(K3:K5)) -> 0.022767812 | D34: =_xlfn.STDEV.S(L3:L5)/SQRT(COUNT(L3:L5)) -> 0.0087771731 | E34: =_xlfn.STDEV.S(M3:M5)/SQRT(COUNT(M3:M5)) -> 2.088475 | F34: =_xlfn.STDEV.S(N3:N5)/SQRT(COUNT(N3:N5)) -> 1.5463182 | G34: =_xlfn.STDEV.S(O3:O5)/SQRT(COUNT(O3:O5)) -> 0.25458754 | H34: =_xlfn.STDEV.S(P3:P5)/SQRT(COUNT(P3:P5)) -> 1.8046848 | J34: p-value | K34: =[2]!SWTEST(K3:K5) -> 0.28431178 | L34: =[2]!SWTEST(L3:L5) -> 0.84921952 | M34: =[2]!SWTEST(M3:M5) -> 0.026853439 | N34: =[2]!SWTEST(N3:N5) -> 0.44249522 | O34: =[2]!SWTEST(O3:O5) -> 0.36311224 | P34: =[2]!SWTEST(P3:P5) -> 0.051623727 | AB34: std err | AC34: t-stat | AD34: df | AE34: p-value | AF34: t-crit | AG34: lower | AH34: upper | AI34: sig | AJ34: effect r
B35: Median | C35: =MEDIAN(K3:K5) -> 0.053933113 | D35: =MEDIAN(L3:L5) -> 0.093457285 | E35: =MEDIAN(M3:M5) -> 87.259615 | F35: =MEDIAN(N3:N5) -> 53.645 | G35: =MEDIAN(O3:O5) -> 1.6666667 | H35: =MEDIAN(P3:P5) -> 7.520274 | J35: alpha | K35: 0.05 | L35: 0.05 | M35: 0.05 | N35: 0.05 | O35: 0.05 | P35: 0.05 | AA35: One Tail | AB35: =SQRT(AD24/AB24+AD25/AB25) -> 0.010058814 | AC35: =(ABS(AC24-AC25-AE22))/AB35 -> 2.9148263 | AD35: =(AD24/AB24+AD25/AB25)^2/((AD24/AB24)^2/(AB24-1)+(AD25/AB25)^2/(AB25-1)) -> 3.1413687 | AE35: =[2]!T_DIST_RT(AC35,AD35) -> 0.029191061 | AF35: =[2]!T_INV(1-AF33,AD35) -> 2.3108091 | AI35: =IF(AE35<AF33,"yes","no") -> yes | AJ35: =SQRT(AC35^2/(AC35^2+AD35)) -> 0.85443951
B36: Mode | C36: =MODE(K3:K5) -> #N/A | D36: =MODE(L3:L5) -> #N/A | E36: =MODE(M3:M5) -> #N/A | F36: =MODE(N3:N5) -> #N/A | G36: =MODE(O3:O5) -> #N/A | H36: =MODE(P3:P5) -> #N/A | J36: normal | K36: =IF(K34<K35,"no","yes") -> yes | L36: =IF(L34<L35,"no","yes") -> yes | M36: =IF(M34<M35,"no","yes") -> no | N36: =IF(N34<N35,"no","yes") -> yes | O36: =IF(O34<O35,"no","yes") -> yes | P36: =IF(P34<P35,"no","yes") -> yes | AA36: Two Tail | AB36: =AB35 -> 0.010058814 | AC36: =AC35 -> 2.9148263 | AD36: =AD35 -> 3.1413687 | AE36: =[2]!T_DIST_2T(AC36,AD36) -> 0.058382121 | AF36: =[2]!T_INV_2T(AF33,AD36) -> 3.1029396 | AG36: =(AC24-AC25)-AF36*AB36 -> -0.0018921968 | AH36: =(AC24-AC25)+AF36*AB36 -> 0.06053159 | AI36: =IF(AE36<AF33,"yes","no") -> no | AJ36: =AJ35 -> 0.85443951
B37: Standard Deviation | C37: =_xlfn.STDEV.S(K3:K5) -> 0.039435008 | D37: =_xlfn.STDEV.S(L3:L5) -> 0.01520251 | E37: =_xlfn.STDEV.S(M3:M5) -> 3.6173449 | F37: =_xlfn.STDEV.S(N3:N5) -> 2.6783017 | G37: =_xlfn.STDEV.S(O3:O5) -> 0.44095855 | H37: =_xlfn.STDEV.S(P3:P5) -> 3.1258058
B38: Sample Variance | C38: =_xlfn.VAR.S(K3:K5) -> 0.0015551198 | D38: =_xlfn.VAR.S(L3:L5) -> 0.0002311163 | E38: =_xlfn.VAR.S(M3:M5) -> 13.085184 | F38: =_xlfn.VAR.S(N3:N5) -> 7.1733 | G38: =_xlfn.VAR.S(O3:O5) -> 0.19444444 | H38: =_xlfn.VAR.S(P3:P5) -> 9.7706616 | J38: d'Agostino-Pearson
B39: Kurtosis | C39: =KURT(K3:K5) -> #DIV/0! | D39: =KURT(L3:L5) -> #DIV/0! | E39: =KURT(M3:M5) -> #DIV/0! | F39: =KURT(N3:N5) -> #DIV/0! | G39: =KURT(O3:O5) -> #DIV/0! | H39: =KURT(P3:P5) -> #DIV/0! | AA39: T Test: Two Independent Samples
B40: Skewness | C40: =SKEW(K3:K5) -> 1.5621746 | D40: =SKEW(L3:L5) -> 0.40640106 | E40: =SKEW(M3:M5) -> -1.7305101 | F40: =SKEW(N3:N5) -> -1.3302289 | G40: =SKEW(O3:O5) -> 1.457863 | H40: =SKEW(P3:P5) -> 1.7263591 | J40: DA-stat | K40: =[2]!DAGOSTINO(K3:K5) -> #N/A | L40: =[2]!DAGOSTINO(L3:L5) -> #N/A | M40: =[2]!DAGOSTINO(M3:M5) -> #N/A | N40: =[2]!DAGOSTINO(N3:N5) -> #N/A | O40: =[2]!DAGOSTINO(O3:O5) -> #N/A | P40: =[2]!DAGOSTINO(P3:P5) -> #N/A
...

Sheet Loss C
A1: Kode | B1: BD (g cm-3) | C1: TOC (%) | D1: Subsiden (cm) | E1: Loss Carbon (t C ha-1)
A3: T1 | B3: ='Resume All'!D3 -> 0.11639015 | C3: ='Resume All'!F3 -> 51.65 | D3: ='Resume All'!G3 -> 5.6666667 | E3: =C3%*D3*B3*100 -> 34.065458
A4: T2 | B4: ='Resume All'!D4 -> 0.12283856 | C4: ='Resume All'!F4 -> 51.115 | D4: ='Resume All'!G4 -> 6.3333333 | E4: =C4%*D4*B4*100 -> 39.766322
A5: T3 | B5: ='Resume All'!D5 -> 0.13325556 | C5: ='Resume All'!F5 -> 52.66 | D5: ='Resume All'!G5 -> 4.6666667 | E5: =C5%*D5*B5*100 -> 32.747109
A6: TT1 | B6: ='Resume All'!L3 -> 0.1106891 | C6: ='Resume All'!N3 -> 49.745 | D6: ='Resume All'!O3 -> 2.3333333 | E6: =C6%*D6*B6*100 -> 12.847869
A7: TT2 | B7: ='Resume All'!L4 -> 0.080378788 | C7: ='Resume All'!N4 -> 54.875 | D7: ='Resume All'!O4 -> 1.6666667 | E7: =C7%*D7*B7*100 -> 7.35131
A8: TT3 | B8: ='Resume All'!L5 -> 0.093457285 | C8: ='Resume All'!N5 -> 53.645 | D8: ='Resume All'!O5 -> 1.5 | E8: =C8%*D8*B8*100 -> 7.520274

Sheet Fisik & C
A1: No | B1: Kode | C1: Kedalaman (cm) | D1: Berat Wadah (g) | E1: Berat Wadah + Sampel Basah (g) | F1: BKO + Wadah (g) | G1: Volume (cm3) | H1: BB (g) | I1: BKO (g) | J1: BI (g/cm3) | K1: KA Grav (%) | L1: KA Vol (%) | M1: Carbon (%) | O1: Descriptive Statistics | R1: Multiplier | S1: 2.2 | U1: Shapiro-Wilk Test | X1: Descriptive Statistics | AB1: Multiplier | AC1: 2.2 | AF1: Shapiro-Wilk Test
A2: 1 | B2: T1 | C2: 0-10 | D2: 1.65 | E2: 88.48 | F2: 18.74 | G2: 120 | H2: =E2-D2 -> 86.83 | I2: =F2-D2 -> 17.09 | J2: =I2/G2 -> 0.14241667 | K2: =(H2-I2)/I2*100 -> 408.0749 | L2: =J2*K2 -> 58.116667 | M2: 50.85
A3: 2 | C3: 35-45 | D3: 1.88 | E3: 95.14 | F3: 11.82 | G3: 110 | H3: =E3-D3 -> 93.26 | I3: =F3-D3 -> 9.94 | J3: =I3/G3 -> 0.090363636 | K3: =(H3-I3)/I3*100 -> 838.22938 | L3: =J3*K3 -> 75.745455 | M3: 52.45 | P3: =J1 -> BI (g/cm3) | S3: =J1 -> BI (g/cm3) | V3: =J1 -> BI (g/cm3) | Y3: =K1 -> KA Grav (%) | Z3: =L1 -> KA Vol (%) | AC3: =K1 -> KA Grav (%) | AD3: =L1 -> KA Vol (%) | AG3: =K1 -> KA Grav (%) | AH3: =L1 -> KA Vol (%)
A4: Rataan | J4: =AVERAGE(J2:J3) -> 0.11639015 | K4: =AVERAGE(K2:K3) -> 623.15214 | L4: =AVERAGE(L2:L3) -> 66.931061 | M4: =AVERAGE(M2:M3) -> 51.65 | O4: Mean | P4: =AVERAGE(J2:J25) -> 0.086118996 | R4: Min | S4: =S11-$S18 -> 0.0082810061 | U4: W-stat | V4: =[2]!SHAPIRO(J2:J25) -> 0.86803229 | X4: Mean | Y4: =AVERAGE(K2:K25) -> 599.35802 | Z4: =AVERAGE(L2:L25) -> 60.835201 | AB4: Min | AC4: =AC11-$AC18 -> 17.766698 | AD4: =AD11-$AC18 -> 0.051119841 | AF4: W-stat | AG4: =[2]!SHAPIRO(K2:K25) -> 0.94964917 | AH4: =[2]!SHAPIRO(L2:L25) -> 0.7841922
A5: SD | J5: =STDEV(J2:J3) -> 0.036807051 | K5: =STDEV(K2:K3) -> 304.16515 | L5: =STDEV(L2:L3) -> 12.465435 | M5: =STDEV(M2:M3) -> 1.1313708 | O5: Standard Error | P5: =_xlfn.STDEV.S(J2:J25)/SQRT(COUNT(J2:J25)) -> 0.0093007353 | R5: Q1-Min | S5: =MAX(S12-S11,0) -> 0.053488938 | U5: p-value | V5: =[2]!SWTEST(J2:J25) -> 0.0048150129 | X5: Standard Error | Y5: =_xlfn.STDEV.S(K2:K25)/SQRT(COUNT(K2:K25)) -> 67.69449 | Z5: =_xlfn.STDEV.S(L2:L25)/SQRT(COUNT(L2:L25)) -> 6.5707955 | AB5: Q1-Min | AC5: =MAX(AC12-AC11,0) -> 364.33076 | AD5: =MAX(AD12-AD11,0) -> 45.468122 | AF5: p-value | AG5: =[2]!SWTEST(K2:K25) -> 0.26624585 | AH5: =[2]!SWTEST(L2:L25) -> 0.00016428547
A6: 5 | B6: T2 | C6: 8-018 | D6: 0.92 | E6: 88.76 | F6: 13.69 | G6: 110 | H6: =E6-D6 -> 87.84 | I6: =F6-D6 -> 12.77 | J6: =I6/G6 -> 0.11609091 | K6: =(H6-I6)/I6*100 -> 587.86218 | L6: =J6*K6 -> 68.245455 | M6: 50.7 | O6: Median | P6: =MEDIAN(J2:J25) -> 0.095959411 | R6: Med-Q1 | S6: =MAX(S13-S12,0) -> 0.034189467 | U6: alpha | V6: 0.05 | X6: Median | Y6: =MEDIAN(K2:K25) -> 626.56982 | Z6: =MEDIAN(L2:L25) -> 76.708229 | AB6: Med-Q1 | AC6: =MAX(AC13-AC12,0) -> 244.47236 | AD6: =MAX(AD13-AD12,0) -> 31.188987 | AF6: alpha | AG6: 0.05 | AH6: 0.05
A7: 6 | C7: 30-40 | D7: 1.34 | E7: 146.42 | F7: 20.13 | G7: 145 | H7: =E7-D7 -> 145.08 | I7: =F7-D7 -> 18.79 | J7: =I7/G7 -> 0.12958621 | K7: =(H7-I7)/I7*100 -> 672.11283 | L7: =J7*K7 -> 87.096552 | M7: 51.53 | O7: Mode | P7: =MODE(J2:J25) -> #N/A | R7: Q3-Med | S7: =MAX(S14-S13,0) -> 0.026898674 | U7: normal | V7: =IF(V5<V6,"no","yes") -> no | X7: Mode | Y7: =MODE(K2:K25) -> #N/A | Z7: =MODE(L2:L25) -> #N/A | AB7: Q3-Med | AC7: =MAX(AC14-AC13,0) -> 263.07156 | AD7: =MAX(AD14-AD13,0) -> 7.3598267 | AF7: normal | AG7: =IF(AG5<AG6,"no","yes") -> yes | AH7: =IF(AH5<AH6,"no","yes") -> no
A8: Rataan | J8: =AVERAGE(J6:J7) -> 0.12283856 | K8: =AVERAGE(K6:K7) -> 629.9875 | L8: =AVERAGE(L6:L7) -> 77.671003 | M8: =AVERAGE(M6:M7) -> 51.115 | O8: Standard Deviation | P8: =_xlfn.STDEV.S(J2:J25) -> 0.045564111 | R8: Max-Q3 | S8: =MAX(S15-S14,0) -> 0.019558582 | X8: Standard Deviation | Y8: =_xlfn.STDEV.S(K2:K25) -> 331.63392 | Z8: =_xlfn.STDEV.S(L2:L25) -> 32.190192 | AB8: Max-Q3 | AC8: =MAX(AC15-AC14,0) -> 267.16796 | AD8: =MAX(AD15-AD14,0) -> 8.308756
A9: SD | J9: =STDEV(J6:J7) -> 0.0095426166 | K9: =STDEV(K6:K7) -> 59.574205 | L9: =STDEV(L6:L7) -> 13.329739 | M9: =STDEV(M6:M7) -> 0.58689863 | O9: Sample Variance | P9: =_xlfn.VAR.S(J2:J25) -> 0.0020760883 | R9: Mean | S9: =S16-$S18 -> 0.086118996 | U9: d'Agostino-Pearson | X9: Sample Variance | Y9: =_xlfn.VAR.S(K2:K25) -> 109981.06 | Z9: =_xlfn.VAR.S(L2:L25) -> 1036.2085 | AB9: Mean | AC9: =AC16-$AC18 -> 599.35802 | AD9: =AD16-$AC18 -> 60.835201 | AF9: d'Agostino-Pearson
A10: 9 | B10: T3 | C10: 0-10 | D10: 1.51 | E10: 68.04 | F10: 14.25 | G10: 100 | H10: =E10-D10 -> 66.53 | I10: =F10-D10 -> 12.74 | J10: =I10/G10 -> 0.1274 | K10: =(H10-I10)/I10*100 -> 422.2135 | L10: =J10*K10 -> 53.79 | M10: 51.7 | O10: Kurtosis | P10: =KURT(J2:J25) -> -0.87332678 | X10: Kurtosis | Y10: =KURT(K2:K25) -> -0.97632552 | Z10: =KURT(L2:L25) -> -0.64226245
A11: 10 | C11: 40-50 | D11: 0.95 | E11: 131.88 | F11: 19.73 | G11: 135 | H11: =E11-D11 -> 130.93 | I11: =F11-D11 -> 18.78 | J11: =I11/G11 -> 0.13911111 | K11: =(H11-I11)/I11*100 -> 597.17785 | L11: =J11*K11 -> 83.074074 | M11: 53.62 | O11: Skewness | P11: =SKEW(J2:J25) -> -0.71771334 | R11: Min | S11: {=MIN(IF(ISBLANK(J2:J25),"",IF(J2:J25>=S12-$S1*(S14-S12),J2:J25,"")))} -> 0.0082810061 | U11: DA-stat | V11: =[2]!DAGOSTINO(J2:J25) -> 3.692731 | X11: Skewness | Y11: =SKEW(K2:K25) -> -0.3102979 | Z11: =SKEW(L2:L25) -> -1.0076668 | AB11: Min | AC11: {=MIN(IF(ISBLANK(K2:K25),"",IF(K2:K25>=AC12-$AC1*(AC14-AC12),K2:K25,"")))} -> 17.766698 | AD11: {=MIN(IF(ISBLANK(L2:L25),"",IF(L2:L25>=AD12-$AC1*(AD14-AD12),L2:L25,"")))} -> 0.051119841 | AF11: DA-stat | AG11: =[2]!DAGOSTINO(K2:K25) -> 2.3778199 | AH11: =[2]!DAGOSTINO(L2:L25) -> 4.8234823
A12: Rataan | J12: =AVERAGE(J10:J11) -> 0.13325556 | K12: =AVERAGE(K10:K11) -> 509.69567 | L12: =AVERAGE(L10:L11) -> 68.432037 | M12: =AVERAGE(M10:M11) -> 52.66 | O12: Range | P12: =P13-P14 -> 0.13413566 | R12: Q1 | S12: =_xlfn.QUARTILE.INC(J2:J25,1) -> 0.061769944 | U12: p-value | V12: =[2]!DPTEST(J2:J25) -> 0.15780969 | X12: Range | Y12: =Y13-Y14 -> 1139.0426 | Z12: =Z13-Z14 -> 92.325692 | AB12: Q1 | AC12: =_xlfn.QUARTILE.INC(K2:K25,1) -> 382.09746 | AD12: =_xlfn.QUARTILE.INC(L2:L25,1) -> 45.519242 | AF12: p-value | AG12: =[2]!DPTEST(K2:K25) -> 0.30455307 | AH12: =[2]!DPTEST(L2:L25) -> 0.089659048
A13: SD | J13: =STDEV(J10:J11) -> 0.0082810061 | K13: =STDEV(K10:K11) -> 123.71848 | L13: =STDEV(L10:L11) -> 20.706967 | M13: =STDEV(M10:M11) -> 1.357645 | O13: Maximum | P13: =MAX(J2:J25) -> 0.14241667 | R13: Median | S13: =MEDIAN(J2:J25) -> 0.095959411 | U13: alpha | V13: 0.05 | X13: Maximum | Y13: =MAX(K2:K25) -> 1156.8093 | Z13: =MAX(L2:L25) -> 92.376812 | AB13: Median | AC13: =MEDIAN(K2:K25) -> 626.56982 | AD13: =MEDIAN(L2:L25) -> 76.708229 | AF13: alpha | AG13: 0.05 | AH13: 0.05
A14: 13 | B14: TT1 | C14: 10-20 | D14: 1.83 | E14: 128.34 | F14: 14.63 | G14: 130 | H14: =E14-D14 -> 126.51 | I14: =F14-D14 -> 12.8 | J14: =I14/G14 -> 0.098461538 | K14: =(H14-I14)/I14*100 -> 888.35937 | L14: =J14*K14 -> 87.469231 | M14: 48.85 | O14: Minimum | P14: =MIN(J2:J25) -> 0.0082810061 | R14: Q3 | S14: =_xlfn.QUARTILE.INC(J2:J25,3) -> 0.12285809 | U14: normal | V14: =IF(V12<V13,"no","yes") -> yes | X14: Minimum | Y14: =MIN(K2:K25) -> 17.766698 | Z14: =MIN(L2:L25) -> 0.051119841 | AB14: Q3 | AC14: =_xlfn.QUARTILE.INC(K2:K25,3) -> 889.64138 | AD14: =_xlfn.QUARTILE.INC(L2:L25,3) -> 84.068056 | AF14: normal | AG14: =IF(AG12<AG13,"no","yes") -> yes | AH14: =IF(AH12<AH13,"no","yes") -> yes
A15: 14 | C15: 25-35 | D15: 1.21 | E15: 120.42 | F15: 15.96 | G15: 120 | H15: =E15-D15 -> 119.21 | I15: =F15-D15 -> 14.75 | J15: =I15/G15 -> 0.12291667 | K15: =(H15-I15)/I15*100 -> 708.20339 | L15: =J15*K15 -> 87.05 | M15: 50.64 | O15: Sum | P15: =SUM(J2:J25) -> 2.0668559 | R15: Max | S15: {=MAX(IF(ISBLANK(J2:J25),"",IF(J2:J25<=S14+$S1*(S14-S12),J2:J25,"")))} -> 0.14241667 | X15: Sum | Y15: =SUM(K2:K25) -> 14384.592 | Z15: =SUM(L2:L25) -> 1460.0448 | AB15: Max | AC15: {=MAX(IF(ISBLANK(K2:K25),"",IF(K2:K25<=AC14+$AC1*(AC14-AC12),K2:K25,"")))} -> 1156.8093 | AD15: {=MAX(IF(ISBLANK(L2:L25),"",IF(L2:L25<=AD14+$AC1*(AD14-AD12),L2:L25,"")))} -> 92.376812
A16: Rataan | J16: =AVERAGE(J14:J15) -> 0.1106891 | K16: =AVERAGE(K14:K15) -> 798.28138 | L16: =AVERAGE(L14:L15) -> 87.259615 | M16: =AVERAGE(M14:M15) -> 49.745 | O16: Count | P16: =COUNT(J2:J25) -> 24 | R16: Mean | S16: =AVERAGE(J2:J25) -> 0.086118996 | X16: Count | Y16: =COUNT(K2:K25) -> 24 | Z16: =COUNT(L2:L25) -> 24 | AB16: Mean | AC16: =AVERAGE(K2:K25) -> 599.35802 | AD16: =AVERAGE(L2:L25) -> 60.835201
A17: SD | J17: =STDEV(J14:J15) -> 0.017292387 | K17: =STDEV(K14:K15) -> 127.38952 | L17: =STDEV(L14:L15) -> 0.29644092 | M17: =STDEV(M14:M15) -> 1.2657211 | O17: Geometric Mean | P17: =GEOMEAN(J2:J25) -> 0.064291616 | X17: Geometric Mean | Y17: =GEOMEAN(K2:K25) -> 440.23064 | Z17: =GEOMEAN(L2:L25) -> 33.362468
A18: 17 | B18: TT2 | C18: 0-10 | D18: 1.68 | E18: 96.26 | F18: 11.2 | G18: 105 | H18: =E18-D18 -> 94.58 | I18: =F18-D18 -> 9.52 | J18: =I18/G18 -> 0.090666667 | K18: =(H18-I18)/I18*100 -> 893.48739 | L18: =J18*K18 -> 81.009524 | M18: 55.87 | O18: Harmonic Mean | P18: =HARMEAN(J2:J25) -> 0.036522011 | R18: Grand Min | S18: =IF(MIN(S11)>=0,0,MIN(S11)) -> 0 | X18: Harmonic Mean | Y18: =HARMEAN(K2:K25) -> 194.09985 | Z18: =HARMEAN(L2:L25) -> 1.0206181 | AB18: Grand Min | AC18: =IF(MIN(AC11:AD11)>=0,0,MIN(AC11:AD11)) -> 0
A19: 18 | C19: 40-50 | D19: 1.98 | E19: 98.88 | F19: 9.69 | G19: 110 | H19: =E19-D19 -> 96.9 | I19: =F19-D19 -> 7.71 | J19: =I19/G19 -> 0.070090909 | K19: =(H19-I19)/I19*100 -> 1156.8093 | L19: =J19*K19 -> 81.081818 | M19: 53.88 | O19: AAD | P19: =AVEDEV(J2:J25) -> 0.03688789 | X19: AAD | Y19: =AVEDEV(K2:K25) -> 270.75861 | Z19: =AVEDEV(L2:L25) -> 26.736024
A20: Rataan | J20: =AVERAGE(J18:J19) -> 0.080378788 | K20: =AVERAGE(K18:K19) -> 1025.1484 | L20: =AVERAGE(L18:L19) -> 81.045671 | M20: =AVERAGE(M18:M19) -> 54.875 | O20: MAD | P20: =[2]!MAD(J2:J25) -> 0.026918201 | R20: Outliers | S20: None | X20: MAD | Y20: =[2]!MAD(K2:K25) -> 264.35357 | Z20: =[2]!MAD(L2:L25) -> 10.469855 | AB20: Outliers | AC20: None | AD20: None
A21: SD | J21: =STDEV(J18:J19) -> 0.014549258 | K21: =STDEV(K18:K19) -> 186.19673 | L21: =STDEV(L18:L19) -> 0.051119841 | M21: =STDEV(M18:M19) -> 1.4071425 | O21: IQR | P21: =[2]!IQR(J2:J25,FALSE) -> 0.061088141 | X21: IQR | Y21: =[2]!IQR(K2:K25,FALSE) -> 507.54392 | Z21: =[2]!IQR(L2:L25,FALSE) -> 38.548814
A22: 21 | B22: TT3 | C22: 15-25 | D22: 1.63 | E22: 122.7 | F22: 13.18 | G22: 133 | H22: =E22-D22 -> 121.07 | I22: =F22-D22 -> 11.55 | J22: =I22/G22 -> 0.086842105 | K22: =(H22-I22)/I22*100 -> 948.22511 | L22: =J22*K22 -> 82.345865 | M22: 54.15
A23: 24 | C23: 75-85 | D23: 1.27 | E23: 142.56 | F23: 15.08 | G23: 138 | H23: =E23-D23 -> 141.29 | I23: =F23-D23 -> 13.81 | J23: =I23/G23 -> 0.10007246 | K23: =(H23-I23)/I23*100 -> 923.0992 | L23: =J23*K23 -> 92.376812 | M23: 53.14
A24: Rataan | J24: =AVERAGE(J22:J23) -> 0.093457285 | K24: =AVERAGE(K22:K23) -> 935.66216 | L24: =AVERAGE(L22:L23) -> 87.361338 | M24: =AVERAGE(M22:M23) -> 53.645
A25: SD | J25: =STDEV(J22:J23) -> 0.0093552762 | K25: =STDEV(K22:K23) -> 17.766698 | L25: =STDEV(L22:L23) -> 7.0929506 | M25: =STDEV(M22:M23) -> 0.71417785

Sheet Peat Dept, Subsiden
A1: No | B1: Tanggal 2018 | C1: Tanggal 2019 | D1: Kode | E1: Ulangan | F1: Peat Depth 2018 (cm) | G1: Peat Depth 2019 (cm) | H1: Tutupan Lahan | I1: Subsiden (cm)
A2: 1 | B2: 43303 | C2: 43795 | D2: T1 | E2: 1 | F2: 770 | G2: 763 | H2: Semak belukar | I2: =F2-(AVERAGE(G2:G4)) -> 5.6666667
A3: 2 | E3: 2 | G3: 764
A4: 3 | E4: 3 | G4: 766
A5: 4 | B5: 43308 | C5: 43794 | D5: T2 | E5: 1 | F5: 650 | G5: 639 | H5: Semak belukar | I5: =F5-(AVERAGE(G5:G7)) -> 6.3333333
A6: 5 | E6: 2 | G6: 650
A7: 6 | E7: 3 | G7: 642
A8: 7 | B8: 43307 | C8: 43791 | D8: T3 | E8: 1 | F8: 610 | G8: 604 | H8: Semak belukar | I8: =F8-(AVERAGE(G8:G10)) -> 4.6666667
A9: 8 | E9: 2 | G9: 606
A10: 9 | E10: 3 | G10: 606
A11: 10 | B11: 43302 | C11: 43790 | D11: TT1 | E11: 1 | F11: 893 | G11: 890 | H11: Semak belukar | I11: =F11-(AVERAGE(G11:G13)) -> 2.3333333
A12: 11 | E12: 2 | G12: 891
A13: 12 | E13: 3 | G13: 891
A14: 13 | B14: 43231 | C14: 43791 | D14: TT2 | E14: 1 | F14: 384 | G14: 381 | H14: Semak belukar | I14: =F14-(AVERAGE(G14:G16)) -> 1.6666667
A15: 14 | E15: 2 | G15: 380
A16: 15 | E16: 3 | G16: 386
A17: 16 | B17: 43229 | C17: 43796 | D17: TT3 | E17: 1 | F17: 113 | G17: 111.5 | H17: Semak belukar | I17: =F17-(AVERAGE(G17:G19)) -> 1.5
A18: 17 | E18: 2 | G18: 112
A19: 18 | E19: 3 | G19: 111
